BEGIN:VCALENDAR
VERSION:2.0
PRODID:-//Library Market//iCal Export//EN
BEGIN:VEVENT
SUMMARY:Tea Bag Weight
UID:13315
DTSTAMP:20260421T093200Z
DTSTART:20260502T180000Z
DTEND:20260502T193000Z
LOCATION:Spring Lake District Library, 123 E Exchange St, Spring Lake, MI 
 49456, United States
ROOM: Makerspace
DESCRIPTION:Create a charming tea bag weight using wire and beads—perfec
 t for keeping your tea bag in place while it steeps. These simple, handmad
 e pieces make a thoughtful Mother’s Day gift or a lovely addition to you
 r own tea routine. Registration Required.
URL:https://springlake.librarycalendar.com/event/tea-bag-weight-13315
END:VEVENT
END:VCALENDAR
