BEGIN:VCALENDAR
VERSION:2.0
PRODID:-//Library Market//iCal Export//EN
BEGIN:VEVENT
SUMMARY:Stretch and Sing Storytime
UID:13326
DTSTAMP:20260422T050100Z
DTSTART:20260611T140000Z
DTEND:20260611T143000Z
LOCATION:Tanglefoot Park, 312 W Exchange St, Spring Lake, MI 49456, United
  States
ROOM: Stretch and Sing Storytime
DESCRIPTION:Join us at Tanglefoot Park for stretching, singing, dancing, a
 nd interactive stories while we enjoy the beautiful summer weather!
URL:https://springlake.librarycalendar.com/event/stretch-and-sing-storytim
 e-13326
END:VEVENT
END:VCALENDAR
