BEGIN:VCALENDAR
VERSION:2.0
PRODID:-//Library Market//iCal Export//EN
BEGIN:VEVENT
SUMMARY:Mess Makers
UID:13330
DTSTAMP:20260421T093200Z
DTSTART:20260716T140000Z
DTEND:20260716T150000Z
LOCATION:Spring Lake District Library, 123 E Exchange St, Spring Lake, MI 
 49456, United States
ROOM: Makerspace
DESCRIPTION:Explore, create and play in this art class designed for our li
 ttlest creatives. 
URL:https://springlake.librarycalendar.com/event/mess-makers-13330
END:VEVENT
END:VCALENDAR
