BEGIN:VCALENDAR
VERSION:2.0
PRODID:-//Library Market//iCal Export//EN
BEGIN:VEVENT
SUMMARY:Tea Rex Party
UID:13332
DTSTAMP:20260421T093200Z
DTSTART:20260624T180000Z
DTEND:20260624T200000Z
LOCATION:Spring Lake District Library, 123 E Exchange St, Spring Lake, MI 
 49456, United States
ROOM: Baird Program Room
DESCRIPTION:Pinkies up! It’s time for a prehistoric party! Join us for s
 tories, crafts and tea party snacks all surrounding dinosaurs. Dressing up
  for the occasion, either in fancy dress or dinosaur-themed clothing, is e
 ncouraged. 
URL:https://springlake.librarycalendar.com/event/tea-rex-party-13332
END:VEVENT
END:VCALENDAR
