BEGIN:VCALENDAR
VERSION:2.0
PRODID:-//Library Market//iCal Export//EN
BEGIN:VEVENT
SUMMARY:Drop-in Stop Motion Animation
UID:13334
DTSTAMP:20260422T130500Z
DTSTART:20260612T170000Z
DTEND:20260612T210000Z
LOCATION:Spring Lake District Library, 123 E Exchange St, Spring Lake, MI 
 49456, United States
ROOM: Makerspace
DESCRIPTION:Stop by the Makerspace to try your hand at making a short stop
  motion animation film! Characters, backdrops and equipment will be provid
 ed. Younger filmmakers may require adult assistance.
URL:https://springlake.librarycalendar.com/event/drop-stop-motion-animatio
 n-13334
END:VEVENT
END:VCALENDAR
