BEGIN:VCALENDAR
VERSION:2.0
PRODID:-//Library Market//iCal Export//EN
BEGIN:VEVENT
SUMMARY:Drop-in Clay Fossils
UID:13337
DTSTAMP:20260422T050100Z
DTSTART:20260618T170000Z
DTEND:20260618T200000Z
LOCATION:Spring Lake District Library, 123 E Exchange St, Spring Lake, MI 
 49456, United States
ROOM: Baird Program Room
DESCRIPTION:Visit us at the library to make a clay fossil of dinosaur foot
 prints, plants, and other objects while learning more about archaeology an
 d paleontology. 
URL:https://springlake.librarycalendar.com/event/drop-clay-fossils-13337
END:VEVENT
END:VCALENDAR
