BEGIN:VCALENDAR
VERSION:2.0
PRODID:-//Library Market//iCal Export//EN
BEGIN:VEVENT
SUMMARY:LEGO Block Party
UID:13338
DTSTAMP:20260423T173800Z
DTSTART:20260623T180000Z
DTEND:20260623T193000Z
LOCATION:Spring Lake District Library, 123 E Exchange St, Spring Lake, MI 
 49456, United States
ROOM: Baird Program Room
DESCRIPTION:Build, play, and complete challenges with LEGOs. Completed pro
 jects will go on display for a week following the event! 
URL:https://springlake.librarycalendar.com/event/lego-block-party-13338
END:VEVENT
END:VCALENDAR
