BEGIN:VCALENDAR
VERSION:2.0
PRODID:-//Library Market//iCal Export//EN
BEGIN:VEVENT
SUMMARY:LEGO Block Party
UID:13340
DTSTAMP:20260421T081200Z
DTSTART:20260818T180000Z
DTEND:20260818T193000Z
LOCATION:Spring Lake District Library, 123 E Exchange St, Spring Lake, MI 
 49456, United States
ROOM: Baird Program Room
DESCRIPTION:Build, play, and complete challenges with LEGOs. Completed pro
 jects will go on display for a week following the event! 
URL:https://springlake.librarycalendar.com/event/lego-block-party-13340
END:VEVENT
END:VCALENDAR
