BEGIN:VCALENDAR
VERSION:2.0
PRODID:-//Library Market//iCal Export//EN
BEGIN:VEVENT
SUMMARY:Splash Pad Science
UID:13342
DTSTAMP:20260421T093200Z
DTSTART:20260723T140000Z
DTEND:20260723T150000Z
LOCATION:Tanglefoot Park, 312 W Exchange St, Spring Lake, MI 49456, United
  States
ROOM: Splash Pad Science
DESCRIPTION:Meet us at the splash pad to enjoy the summer weather and part
 icipate in hands-on science activities.
URL:https://springlake.librarycalendar.com/event/splash-pad-science-13342
END:VEVENT
END:VCALENDAR
