BEGIN:VCALENDAR
VERSION:2.0
PRODID:-//Library Market//iCal Export//EN
BEGIN:VEVENT
SUMMARY:Drop-in Perler Bead Studio
UID:13343
DTSTAMP:20260421T202300Z
DTSTART:20260702T170000Z
DTEND:20260702T210000Z
LOCATION:Spring Lake District Library, 123 E Exchange St, Spring Lake, MI 
 49456, United States
ROOM: Baird Program Room
DESCRIPTION:Bring your imagination to our Perler Bead Studio! Drop in anyt
 ime throughout the afternoon to make an original creation or use one of ou
 r cool templates.
URL:https://springlake.librarycalendar.com/event/drop-perler-bead-studio-1
 3343
END:VEVENT
END:VCALENDAR
