BEGIN:VCALENDAR
VERSION:2.0
PRODID:-//Library Market//iCal Export//EN
BEGIN:VEVENT
SUMMARY:Stuffed Animal Workshop
UID:13344
DTSTAMP:20260421T093200Z
DTSTART:20260708T180000Z
DTEND:20260708T190000Z
LOCATION:Spring Lake District Library, 123 E Exchange St, Spring Lake, MI 
 49456, United States
ROOM: Baird Program Room
DESCRIPTION:Join us for this workshop where participants can make their ow
 n adorable stuffed dinosaur. Registration required.
URL:https://springlake.librarycalendar.com/event/stuffed-animal-workshop-1
 3344
END:VEVENT
END:VCALENDAR
