BEGIN:VCALENDAR
VERSION:2.0
PRODID:-//Library Market//iCal Export//EN
BEGIN:VEVENT
SUMMARY:Drive-in Movie
UID:13345
DTSTAMP:20260422T050100Z
DTSTART:20260710T204500Z
DTEND:20260710T230000Z
LOCATION:Spring Lake District Library, 123 E Exchange St, Spring Lake, MI 
 49456, United States
ROOM: Baird Program Room
DESCRIPTION:Pull up to the library for a one-of-a-kind movie night! We wil
 l turn cardboard boxes into cool cars, then enjoy some snacks while watchi
 ng a movie. Materials to build your car will be available on a first come,
  first served basis, and participants are invited to bring any comfort ite
 ms to make the viewing experience more cozy. Registration is encouraged, b
 ut not required. 
URL:https://springlake.librarycalendar.com/event/drive-movie-13345
END:VEVENT
END:VCALENDAR
