BEGIN:VCALENDAR
VERSION:2.0
PRODID:-//Library Market//iCal Export//EN
BEGIN:VEVENT
SUMMARY:Worm Races
UID:13346
DTSTAMP:20260422T130500Z
DTSTART:20260721T180000Z
DTEND:20260721T190000Z
LOCATION:Spring Lake District Library, 123 E Exchange St, Spring Lake, MI 
 49456, United States
ROOM: Baird Program Room
DESCRIPTION:On your marks, get set, crawl! Join us at the library racetrac
 k to choose an athlete to coach, make signs to cheer them on and watch the
 m race to the finish. Registration is required for worm coaches; no regist
 ration required for spectators. 
URL:https://springlake.librarycalendar.com/event/worm-races-13346
END:VEVENT
END:VCALENDAR
