BEGIN:VCALENDAR
VERSION:2.0
PRODID:-//Library Market//iCal Export//EN
BEGIN:VEVENT
SUMMARY:Chaos Embroidery
UID:13347
DTSTAMP:20260422T050100Z
DTSTART:20260616T180000Z
DTEND:20260616T190000Z
LOCATION:Spring Lake District Library, 123 E Exchange St, Spring Lake, MI 
 49456, United States
ROOM: Makerspace
DESCRIPTION:Join us for an afternoon of embroidery, where we will learn ba
 sic stitches to create a chaotic masterpiece of assorted beads and charms.
  Registration required. 
URL:https://springlake.librarycalendar.com/event/chaos-embroidery-13347
END:VEVENT
END:VCALENDAR
