BEGIN:VCALENDAR
VERSION:2.0
PRODID:-//Library Market//iCal Export//EN
BEGIN:VEVENT
SUMMARY:Tween Lock-in
UID:13348
DTSTAMP:20260421T093200Z
DTSTART:20260619T204500Z
DTEND:20260619T223000Z
LOCATION:Spring Lake District Library, 123 E Exchange St, Spring Lake, MI 
 49456, United States
ROOM: Baird Program Room
DESCRIPTION:Our annual after-hours event for tweens returns! We’ll have 
 fun games and activities, including hide-and-seek and a scavenger hunt, an
 d opportunities to win prizes! Registration required. Check-in opens at 4:
 45 on the day of the program.
URL:https://springlake.librarycalendar.com/event/tween-lock-13348
END:VEVENT
END:VCALENDAR
