BEGIN:VCALENDAR
VERSION:2.0
PRODID:-//Library Market//iCal Export//EN
BEGIN:VEVENT
SUMMARY:Tech Take-apart
UID:13349
DTSTAMP:20260421T093200Z
DTSTART:20260707T180000Z
DTEND:20260707T193000Z
LOCATION:Spring Lake District Library, 123 E Exchange St, Spring Lake, MI 
 49456, United States
ROOM: Makerspace
DESCRIPTION:Enter the Breakerspace to unearth the inner workings of old an
 d nonfunctional technology.
URL:https://springlake.librarycalendar.com/event/tech-take-apart-13349
END:VEVENT
END:VCALENDAR
