BEGIN:VCALENDAR
VERSION:2.0
PRODID:-//Library Market//iCal Export//EN
BEGIN:VEVENT
SUMMARY:Tie Dye for Tweens
UID:13350
DTSTAMP:20260424T025400Z
DTSTART:20260715T180000Z
DTEND:20260715T190000Z
LOCATION:Spring Lake District Library, 123 E Exchange St, Spring Lake, MI 
 49456, United States
ROOM: Tie Dye for Tweens
DESCRIPTION:We’re having a tie-dye party! Choose something from our stas
 h of accessories OR bring one item of your own to tie-dye. Rain date: Wedn
 esday, July 22. Registration is encouraged, but not required. 
URL:https://springlake.librarycalendar.com/event/tie-dye-tweens-13350
END:VEVENT
END:VCALENDAR
