BEGIN:VCALENDAR
VERSION:2.0
PRODID:-//Library Market//iCal Export//EN
BEGIN:VEVENT
SUMMARY:Beaded Bag Charms
UID:13354
DTSTAMP:20260423T173800Z
DTSTART:20260817T180000Z
DTEND:20260817T190000Z
LOCATION:Spring Lake District Library, 123 E Exchange St, Spring Lake, MI 
 49456, United States
ROOM: Makerspace
DESCRIPTION:Deck out your backpack for the new school year by making a per
 sonalized keychain using fun beads and charms.
URL:https://springlake.librarycalendar.com/event/beaded-bag-charms-13354
END:VEVENT
END:VCALENDAR
