BEGIN:VCALENDAR
VERSION:2.0
PRODID:-//Library Market//iCal Export//EN
BEGIN:VEVENT
SUMMARY:Pokemon Club
UID:13355
DTSTAMP:20260422T043600Z
DTSTART:20260819T180000Z
DTEND:20260819T190000Z
LOCATION:Spring Lake District Library, 123 E Exchange St, Spring Lake, MI 
 49456, United States
ROOM: Makerspace
DESCRIPTION:Our monthly meetup for Pokemon fans is back! Join us for craft
 s, activities and games surrounding this beloved franchise. Participants m
 ay bring cards to show off or trade if desired.
URL:https://springlake.librarycalendar.com/event/pokemon-club-13355
END:VEVENT
END:VCALENDAR
