BEGIN:VCALENDAR
VERSION:2.0
PRODID:-//Library Market//iCal Export//EN
BEGIN:VEVENT
SUMMARY:Screenprinted Tote Bags
UID:13356
DTSTAMP:20260423T041900Z
DTSTART:20260609T180000Z
DTEND:20260609T200000Z
LOCATION:Spring Lake District Library, 123 E Exchange St, Spring Lake, MI 
 49456, United States
ROOM: Makerspace
DESCRIPTION:Learn how to screen print and make your own personalized tote 
 bag to carry throughout the summer! Registration required. 
URL:https://springlake.librarycalendar.com/event/screenprinted-tote-bags-1
 3356
END:VEVENT
END:VCALENDAR
