BEGIN:VCALENDAR
VERSION:2.0
PRODID:-//Library Market//iCal Export//EN
BEGIN:VEVENT
SUMMARY:Paint Your Own Tapestry
UID:13357
DTSTAMP:20260422T130500Z
DTSTART:20260625T180000Z
DTEND:20260625T200000Z
LOCATION:Spring Lake District Library, 123 E Exchange St, Spring Lake, MI 
 49456, United States
ROOM: Baird Program Room
DESCRIPTION:Design a tapestry to put in your room! Plan and paint your des
 ign, then add trim and other textural elements to personalize it to your t
 aste. Registration required. 
URL:https://springlake.librarycalendar.com/event/paint-your-own-tapestry-1
 3357
END:VEVENT
END:VCALENDAR
