BEGIN:VCALENDAR
VERSION:2.0
PRODID:-//Library Market//iCal Export//EN
BEGIN:VEVENT
SUMMARY:Needle-felted Frames
UID:13359
DTSTAMP:20260422T050100Z
DTSTART:20260727T180000Z
DTEND:20260727T200000Z
LOCATION:Spring Lake District Library, 123 E Exchange St, Spring Lake, MI 
 49456, United States
ROOM: Makerspace
DESCRIPTION:Try your hand at this adorable needle felt embroidery art! Pic
 k your pattern and learn to make felt art onto an embroidery frame. Regist
 ration is required.
URL:https://springlake.librarycalendar.com/event/needle-felted-frames-1335
 9
END:VEVENT
END:VCALENDAR
