BEGIN:VCALENDAR
VERSION:2.0
PRODID:-//Library Market//iCal Export//EN
BEGIN:VEVENT
SUMMARY:Drop-in Rock Painting
UID:13360
DTSTAMP:20260421T182300Z
DTSTART:20260608T170000Z
DTEND:20260608T210000Z
LOCATION:Spring Lake District Library, 123 E Exchange St, Spring Lake, MI 
 49456, United States
ROOM: Makerspace
DESCRIPTION:Stop by the Makerspace to paint a rock to hide or keep for you
 rself! All ages welcome.
URL:https://springlake.librarycalendar.com/event/drop-rock-painting-13360
END:VEVENT
END:VCALENDAR
