BEGIN:VCALENDAR
VERSION:2.0
PRODID:-//Library Market//iCal Export//EN
BEGIN:VEVENT
SUMMARY:Summer Magic Show: The Magic of Reading
UID:13361
DTSTAMP:20260421T202300Z
DTSTART:20260622T180000Z
DTEND:20260622T190000Z
LOCATION:Spring Lake District Library, 123 E Exchange St, Spring Lake, MI 
 49456, United States
ROOM: Baird Program Room
DESCRIPTION:Magician Brad Lancaster is coming to put on a show with tons o
 f audience participation, music, magic, puppetry, storytelling, and comedy
 , all while highlighting the magic of books.
URL:https://springlake.librarycalendar.com/event/summer-magic-show-magic-r
 eading-13361
END:VEVENT
END:VCALENDAR
