BEGIN:VCALENDAR
VERSION:2.0
PRODID:-//Library Market//iCal Export//EN
BEGIN:VEVENT
SUMMARY:Drop-in Friendship Bracelets
UID:13363
DTSTAMP:20260422T050100Z
DTSTART:20260807T170000Z
DTEND:20260807T210000Z
LOCATION:Spring Lake District Library, 123 E Exchange St, Spring Lake, MI 
 49456, United States
ROOM: Makerspace
DESCRIPTION:Drop in to make different kinds of bracelets to trade with you
 r friends! From simple pipe cleaner beaded bracelets to elaborate macrame 
 bracelets, there&#039;s something for everyone!
URL:https://springlake.librarycalendar.com/event/drop-friendship-bracelets
 -13363
END:VEVENT
END:VCALENDAR
