BEGIN:VCALENDAR
VERSION:2.0
PRODID:-//Library Market//iCal Export//EN
BEGIN:VEVENT
SUMMARY:Family STEM Night
UID:13364
DTSTAMP:20260421T182300Z
DTSTART:20260814T204500Z
DTEND:20260814T220000Z
LOCATION:Spring Lake District Library, 123 E Exchange St, Spring Lake, MI 
 49456, United States
ROOM: Baird Program Room
DESCRIPTION:Work together as a family to solve a series of STEM challenges
  throughout the library after we close for the evening. Participants shoul
 d report to the Program Room at 4:45 to sign in. Registration is suggested
 , but not required.
URL:https://springlake.librarycalendar.com/event/family-stem-night-13364
END:VEVENT
END:VCALENDAR
