BEGIN:VCALENDAR
VERSION:2.0
PRODID:-//Library Market//iCal Export//EN
BEGIN:VEVENT
SUMMARY:Bingo Game Day
UID:13365
DTSTAMP:20260422T111400Z
DTSTART:20260822T180000Z
DTEND:20260822T190000Z
LOCATION:Spring Lake District Library, 123 E Exchange St, Spring Lake, MI 
 49456, United States
ROOM: Baird Program Room
DESCRIPTION:Everyone is invited to join us for an evening of Bingo, treats
  and friendly competition. All ages are welcome to attend.
URL:https://springlake.librarycalendar.com/event/bingo-game-day-13365
END:VEVENT
END:VCALENDAR
