BEGIN:VCALENDAR
VERSION:2.0
PRODID:-//Library Market//iCal Export//EN
BEGIN:VEVENT
SUMMARY:Tiny Art Show Opening
UID:13366
DTSTAMP:20260422T130500Z
DTSTART:20260604T200000Z
DTEND:20260604T220000Z
LOCATION:Spring Lake District Library, 123 E Exchange St, Spring Lake, MI 
 49456, United States
ROOM: Tiny Art Show Opening
DESCRIPTION:Celebrate the start of Summer Reading with a reception for all
  the artists who submitted pieces into our Tiny Art Show! Share your piece
 s with friends and family while enjoying refreshments. Artwork will be on 
 display in the library throughout the summer. 
URL:https://springlake.librarycalendar.com/event/tiny-art-show-opening-133
 66
END:VEVENT
END:VCALENDAR
