BEGIN:VCALENDAR
VERSION:2.0
PRODID:-//Library Market//iCal Export//EN
BEGIN:VEVENT
SUMMARY:Foam Party in the Park
UID:13415
DTSTAMP:20260424T025400Z
DTSTART:20260717T180000Z
DTEND:20260717T200000Z
LOCATION:North Bank Park, 899 Central Avenue, Spring Lake, MI 49456, Unite
 d States
ROOM: Foam Party in the Park
DESCRIPTION:Stormy&#039;s Foam Party is back for another day of foam and f
 un! Play with beach balls, dance to the music and play in foam bubbles at 
 the North Bank Park (formally known as Central Park) ice rink! Swim or ath
 letic wear is recommended. While you dry off or wait for your turn, keep t
 he party going with games, crafts and snacks. Participants will be assigne
 d a group upon arrival and will receive a wristband and timeslot to play i
 n the foam. All members of your group must be present to receive a wristba
 nd. 
URL:https://springlake.librarycalendar.com/event/foam-party-park-13415
END:VEVENT
END:VCALENDAR
