BEGIN:VCALENDAR
VERSION:2.0
PRODID:-//Library Market//iCal Export//EN
BEGIN:VEVENT
SUMMARY:OAISD Play n Learn
UID:13424
DTSTAMP:20260423T041900Z
DTSTART:20270212T150000Z
DTEND:20270212T160000Z
LOCATION:Spring Lake District Library, 123 E Exchange St, Spring Lake, MI 
 49456, United States
ROOM: Baird Program Room
DESCRIPTION:Join us on the second Friday of each month for a Play n Learn 
 program designed for families with children ages 0-5. Monthly sessions are
  based on a children&#039;s book, with a story, finger plays, crafts, and 
 activities. Each family receives a children&#039;s book to take home. Chil
 d development and reading readiness information are also available for par
 ents.This program is hosted by Ottawa Area ISD Early Childhood.
URL:https://springlake.librarycalendar.com/event/oaisd-play-n-learn-13424
END:VEVENT
END:VCALENDAR
