BEGIN:VCALENDAR
VERSION:2.0
PRODID:-//Library Market//iCal Export//EN
BEGIN:VEVENT
SUMMARY:Drop-in Slime Lab
UID:13428
DTSTAMP:20260423T173800Z
DTSTART:20260730T170000Z
DTEND:20260730T210000Z
LOCATION:Spring Lake District Library, 123 E Exchange St, Spring Lake, MI 
 49456, United States
ROOM: Makerspace
DESCRIPTION:We&#039;re continuing the tradition of sticky-icky, ooey-gooey
  science with our annual summer slime lab! This year, make amber slime tha
 t looks like fossilized tree resin! No registration required; while suppli
 es last. Younger participants may need assistance.
URL:https://springlake.librarycalendar.com/event/drop-slime-lab-13428
END:VEVENT
END:VCALENDAR
